Package: iCOBRA Version: 1.37.1 Command: F:\biocbuild\bbs-3.22-bioc\R\bin\R.exe CMD check --no-multiarch --install=check:iCOBRA.install-out.txt --library=F:\biocbuild\bbs-3.22-bioc\R\library --no-vignettes --timings iCOBRA_1.37.1.tar.gz StartedAt: 2025-08-15 04:15:50 -0400 (Fri, 15 Aug 2025) EndedAt: 2025-08-15 04:18:29 -0400 (Fri, 15 Aug 2025) EllapsedTime: 159.2 seconds RetCode: 0 Status: OK CheckDir: iCOBRA.Rcheck Warnings: 0