Package: iCOBRA Version: 1.37.1 Command: /Library/Frameworks/R.framework/Resources/bin/R CMD check --install=check:iCOBRA.install-out.txt --library=/Library/Frameworks/R.framework/Resources/library --no-vignettes --timings iCOBRA_1.37.1.tar.gz StartedAt: 2025-10-06 22:19:35 -0400 (Mon, 06 Oct 2025) EndedAt: 2025-10-06 22:22:17 -0400 (Mon, 06 Oct 2025) EllapsedTime: 161.3 seconds RetCode: 0 Status: OK CheckDir: iCOBRA.Rcheck Warnings: 0