Package: iCOBRA Version: 1.37.1 Command: /Library/Frameworks/R.framework/Resources/bin/R CMD build --keep-empty-dirs --no-resave-data iCOBRA StartedAt: 2025-10-06 17:27:11 -0400 (Mon, 06 Oct 2025) EndedAt: 2025-10-06 17:27:58 -0400 (Mon, 06 Oct 2025) EllapsedTime: 47.0 seconds RetCode: 0 Status: OK PackageFile: iCOBRA_1.37.1.tar.gz PackageFileSize: 3.125 MiB