Package: iCOBRA Version: 1.37.1 Command: rm -rf iCOBRA.buildbin-libdir && mkdir iCOBRA.buildbin-libdir && /Users/biocbuild/BBS/utils/build-universal.sh iCOBRA_1.37.1.tar.gz /Library/Frameworks/R.framework/Resources/bin/R iCOBRA.buildbin-libdir StartedAt: 2025-10-07 02:15:22 -0400 (Tue, 07 Oct 2025) EndedAt: 2025-10-07 02:15:44 -0400 (Tue, 07 Oct 2025) EllapsedTime: 22.1 seconds RetCode: 0 Status: OK PackageFile: iCOBRA_1.37.1.tgz PackageFileSize: 2.734 MiB