Package: iCOBRA Version: 1.37.1 Command: /Library/Frameworks/R.framework/Resources/bin/R CMD check --install=check:iCOBRA.install-out.txt --library=/Library/Frameworks/R.framework/Resources/library --no-vignettes --timings iCOBRA_1.37.1.tar.gz StartedAt: 2025-10-13 19:59:11 -0400 (Mon, 13 Oct 2025) EndedAt: 2025-10-13 20:00:01 -0400 (Mon, 13 Oct 2025) EllapsedTime: 49.6 seconds RetCode: 0 Status: OK CheckDir: iCOBRA.Rcheck Warnings: 0