Package: iCARE Version: 1.37.0 Command: /home/biocbuild/R/R/bin/R CMD INSTALL iCARE StartedAt: 2025-10-16 21:16:49 -0000 (Thu, 16 Oct 2025) EndedAt: 2025-10-16 21:17:36 -0000 (Thu, 16 Oct 2025) EllapsedTime: 46.6 seconds RetCode: 0 Status: OK