Package: iCARE Version: 1.37.0 Command: F:\biocbuild\bbs-3.22-bioc\R\bin\R.exe CMD INSTALL iCARE StartedAt: 2025-08-14 15:26:36 -0400 (Thu, 14 Aug 2025) EndedAt: 2025-08-14 15:26:58 -0400 (Thu, 14 Aug 2025) EllapsedTime: 21.9 seconds RetCode: 0 Status: OK