Package: iCARE Version: 1.37.0 Command: /Library/Frameworks/R.framework/Resources/bin/R CMD INSTALL iCARE StartedAt: 2025-10-23 15:10:10 -0400 (Thu, 23 Oct 2025) EndedAt: 2025-10-23 15:10:57 -0400 (Thu, 23 Oct 2025) EllapsedTime: 46.8 seconds RetCode: 0 Status: OK