Package: iBMQ Version: 1.49.0 Command: /home/biocbuild/R/R/bin/R CMD INSTALL iBMQ StartedAt: 2025-10-16 21:24:35 -0000 (Thu, 16 Oct 2025) EndedAt: 2025-10-16 21:24:56 -0000 (Thu, 16 Oct 2025) EllapsedTime: 21.0 seconds RetCode: 0 Status: OK