Package: iBMQ Version: 1.49.0 Command: /home/biocbuild/R/R/bin/R CMD check --install=check:iBMQ.install-out.txt --library=/home/biocbuild/R/R/site-library --no-vignettes --timings iBMQ_1.49.0.tar.gz StartedAt: 2025-10-17 10:11:16 -0000 (Fri, 17 Oct 2025) EndedAt: 2025-10-17 10:11:58 -0000 (Fri, 17 Oct 2025) EllapsedTime: 42.1 seconds RetCode: 0 Status: OK CheckDir: iBMQ.Rcheck Warnings: 0