Package: iBMQ Version: 1.49.0 Command: chmod a+r iBMQ -R && F:\biocbuild\bbs-3.22-bioc\R\bin\R.exe CMD build --keep-empty-dirs --no-resave-data iBMQ StartedAt: 2025-08-14 20:51:41 -0400 (Thu, 14 Aug 2025) EndedAt: 2025-08-14 20:52:30 -0400 (Thu, 14 Aug 2025) EllapsedTime: 48.5 seconds RetCode: 0 Status: OK PackageFile: iBMQ_1.49.0.tar.gz PackageFileSize: 3.886 MiB