Package: iBMQ Version: 1.49.0 Command: rm -rf iBMQ.buildbin-libdir && mkdir iBMQ.buildbin-libdir && F:\biocbuild\bbs-3.22-bioc\R\bin\R.exe CMD INSTALL --build --library=iBMQ.buildbin-libdir iBMQ_1.49.0.tar.gz StartedAt: 2025-08-15 10:29:25 -0400 (Fri, 15 Aug 2025) EndedAt: 2025-08-15 10:29:49 -0400 (Fri, 15 Aug 2025) EllapsedTime: 23.8 seconds RetCode: 0 Status: OK PackageFile: iBMQ_1.49.0.zip PackageFileSize: 2.467 MiB