Package: iBMQ Version: 1.49.0 Maintainer: Greg Imholte MaintainerEmail: gimholte at uw.edu git_url: https://git.bioconductor.org/packages/iBMQ git_branch: devel git_last_commit: 74c1ee2 git_last_commit_date: 2025-04-15 10:17:03 -0400 (Tue, 15 Apr 2025)