Package: iBBiG Version: 1.54.0 Command: /Library/Frameworks/R.framework/Resources/bin/R CMD INSTALL iBBiG StartedAt: 2025-10-30 15:11:38 -0400 (Thu, 30 Oct 2025) EndedAt: 2025-10-30 15:12:06 -0400 (Thu, 30 Oct 2025) EllapsedTime: 27.4 seconds RetCode: 0 Status: OK