Package: iASeq Version: 1.53.0 Command: /home/biocbuild/R/R/bin/R CMD check --install=check:iASeq.install-out.txt --library=/home/biocbuild/R/R/site-library --no-vignettes --timings iASeq_1.53.0.tar.gz StartedAt: 2025-10-17 10:10:59 -0000 (Fri, 17 Oct 2025) EndedAt: 2025-10-17 10:11:20 -0000 (Fri, 17 Oct 2025) EllapsedTime: 20.0 seconds RetCode: 0 Status: OK CheckDir: iASeq.Rcheck Warnings: 0