Package: iASeq Version: 1.53.0 Command: /home/biocbuild/bbs-3.22-bioc/R/bin/R CMD check --install=check:iASeq.install-out.txt --library=/home/biocbuild/bbs-3.22-bioc/R/site-library --timings iASeq_1.53.0.tar.gz StartedAt: 2025-10-21 00:50:25 -0400 (Tue, 21 Oct 2025) EndedAt: 2025-10-21 00:50:48 -0400 (Tue, 21 Oct 2025) EllapsedTime: 23.0 seconds RetCode: 0 Status: OK CheckDir: iASeq.Rcheck Warnings: 0