Package: iASeq Version: 1.53.0 Command: /Library/Frameworks/R.framework/Resources/bin/R CMD INSTALL iASeq StartedAt: 2025-10-21 15:06:34 -0400 (Tue, 21 Oct 2025) EndedAt: 2025-10-21 15:06:48 -0400 (Tue, 21 Oct 2025) EllapsedTime: 13.8 seconds RetCode: 0 Status: OK