Package: iASeq Version: 1.53.0 Command: rm -rf iASeq.buildbin-libdir && mkdir iASeq.buildbin-libdir && /Users/biocbuild/BBS/utils/build-universal.sh iASeq_1.53.0.tar.gz /Library/Frameworks/R.framework/Resources/bin/R iASeq.buildbin-libdir StartedAt: 2025-10-22 02:29:55 -0400 (Wed, 22 Oct 2025) EndedAt: 2025-10-22 02:30:02 -0400 (Wed, 22 Oct 2025) EllapsedTime: 7.1 seconds RetCode: 0 Status: OK PackageFile: iASeq_1.53.0.tgz PackageFileSize: 253.8 KiB