Package: iASeq Version: 1.53.0 Command: /Library/Frameworks/R.framework/Resources/bin/R CMD check --install=check:iASeq.install-out.txt --library=/Library/Frameworks/R.framework/Resources/library --no-vignettes --timings iASeq_1.53.0.tar.gz StartedAt: 2025-10-22 20:15:00 -0400 (Wed, 22 Oct 2025) EndedAt: 2025-10-22 20:15:11 -0400 (Wed, 22 Oct 2025) EllapsedTime: 11.2 seconds RetCode: 0 Status: OK CheckDir: iASeq.Rcheck Warnings: 0