Package: hyperdraw Version: 1.61.0 Command: /home/biocbuild/R/R/bin/R CMD INSTALL hyperdraw StartedAt: 2025-09-29 20:46:37 -0000 (Mon, 29 Sep 2025) EndedAt: 2025-09-29 20:46:44 -0000 (Mon, 29 Sep 2025) EllapsedTime: 7.4 seconds RetCode: 0 Status: OK