Package: hyperdraw Version: 1.61.0 Command: /home/biocbuild/R/R/bin/R CMD check --install=check:hyperdraw.install-out.txt --library=/home/biocbuild/R/R/site-library --no-vignettes --timings hyperdraw_1.61.0.tar.gz StartedAt: 2025-09-30 09:18:33 -0000 (Tue, 30 Sep 2025) EndedAt: 2025-09-30 09:19:07 -0000 (Tue, 30 Sep 2025) EllapsedTime: 34.1 seconds RetCode: 0 Status: OK CheckDir: hyperdraw.Rcheck Warnings: 0