Package: hyperdraw Version: 1.61.0 Command: /home/biocbuild/R/R/bin/R CMD build --keep-empty-dirs --no-resave-data hyperdraw StartedAt: 2025-10-03 00:41:06 -0000 (Fri, 03 Oct 2025) EndedAt: 2025-10-03 00:41:17 -0000 (Fri, 03 Oct 2025) EllapsedTime: 11.0 seconds RetCode: 0 Status: OK PackageFile: hyperdraw_1.61.0.tar.gz PackageFileSize: 197.6 KiB