Package: hpar Version: 1.51.0 Command: /home/biocbuild/R/R/bin/R CMD INSTALL hpar StartedAt: 2025-10-16 21:41:00 -0000 (Thu, 16 Oct 2025) EndedAt: 2025-10-16 21:41:19 -0000 (Thu, 16 Oct 2025) EllapsedTime: 19.0 seconds RetCode: 0 Status: OK