Package: hpar Version: 1.51.0 Command: /home/biocbuild/R/R/bin/R CMD build --keep-empty-dirs --no-resave-data hpar StartedAt: 2025-10-21 00:31:40 -0000 (Tue, 21 Oct 2025) EndedAt: 2025-10-21 00:32:34 -0000 (Tue, 21 Oct 2025) EllapsedTime: 54.0 seconds RetCode: 0 Status: OK PackageFile: hpar_1.51.0.tar.gz PackageFileSize: 983 KiB