Package: hpar Version: 1.51.0 Command: chmod a+r hpar -R && F:\biocbuild\bbs-3.22-bioc\R\bin\R.exe CMD build --keep-empty-dirs --no-resave-data hpar StartedAt: 2025-08-14 20:49:55 -0400 (Thu, 14 Aug 2025) EndedAt: 2025-08-14 20:51:30 -0400 (Thu, 14 Aug 2025) EllapsedTime: 95.2 seconds RetCode: 0 Status: OK PackageFile: hpar_1.51.0.tar.gz PackageFileSize: 885.6 KiB