Package: hpar Version: 1.51.0 Command: rm -rf hpar.buildbin-libdir && mkdir hpar.buildbin-libdir && F:\biocbuild\bbs-3.22-bioc\R\bin\R.exe CMD INSTALL --build --library=hpar.buildbin-libdir hpar_1.51.0.tar.gz StartedAt: 2025-08-15 10:28:58 -0400 (Fri, 15 Aug 2025) EndedAt: 2025-08-15 10:29:17 -0400 (Fri, 15 Aug 2025) EllapsedTime: 18.8 seconds RetCode: 0 Status: OK PackageFile: hpar_1.51.0.zip PackageFileSize: 644.5 KiB