Package: hpar Version: 1.51.0 Command: /Library/Frameworks/R.framework/Resources/bin/R CMD INSTALL hpar StartedAt: 2025-10-23 15:23:54 -0400 (Thu, 23 Oct 2025) EndedAt: 2025-10-23 15:24:14 -0400 (Thu, 23 Oct 2025) EllapsedTime: 19.5 seconds RetCode: 0 Status: OK