Package: hpar Version: 1.51.0 Command: /Library/Frameworks/R.framework/Resources/bin/R CMD build --keep-empty-dirs --no-resave-data hpar StartedAt: 2025-10-23 17:19:41 -0400 (Thu, 23 Oct 2025) EndedAt: 2025-10-23 17:20:23 -0400 (Thu, 23 Oct 2025) EllapsedTime: 42.3 seconds RetCode: 0 Status: OK PackageFile: hpar_1.51.0.tar.gz PackageFileSize: 885.2 KiB