Package: hopach Version: 2.70.0 Command: /home/biocbuild/R/R/bin/R CMD check --install=check:hopach.install-out.txt --library=/home/biocbuild/R/R/site-library --no-vignettes --timings hopach_2.70.0.tar.gz StartedAt: 2025-11-14 10:33:18 -0000 (Fri, 14 Nov 2025) EndedAt: 2025-11-14 10:34:29 -0000 (Fri, 14 Nov 2025) EllapsedTime: 71.1 seconds RetCode: 0 Status: OK CheckDir: hopach.Rcheck Warnings: 0