Package: hopach Version: 2.69.0 Command: /home/biocbuild/R/R/bin/R CMD build --keep-empty-dirs --no-resave-data hopach StartedAt: 2025-10-21 00:31:28 -0000 (Tue, 21 Oct 2025) EndedAt: 2025-10-21 00:32:02 -0000 (Tue, 21 Oct 2025) EllapsedTime: 34.0 seconds RetCode: 0 Status: OK PackageFile: hopach_2.69.0.tar.gz PackageFileSize: 1.288 MiB