Package: hopach Version: 2.69.0 Command: /home/biocbuild/bbs-3.22-bioc/R/bin/R CMD INSTALL hopach StartedAt: 2025-10-03 15:13:02 -0400 (Fri, 03 Oct 2025) EndedAt: 2025-10-03 15:13:09 -0400 (Fri, 03 Oct 2025) EllapsedTime: 7.0 seconds RetCode: 0 Status: OK