Package: hopach Version: 2.69.0 Command: /home/biocbuild/bbs-3.22-bioc/R/bin/R CMD check --install=check:hopach.install-out.txt --library=/home/biocbuild/bbs-3.22-bioc/R/site-library --timings hopach_2.69.0.tar.gz StartedAt: 2025-10-04 00:41:05 -0400 (Sat, 04 Oct 2025) EndedAt: 2025-10-04 00:42:15 -0400 (Sat, 04 Oct 2025) EllapsedTime: 70.1 seconds RetCode: 0 Status: OK CheckDir: hopach.Rcheck Warnings: 0