Package: hopach Version: 2.69.0 Command: /Library/Frameworks/R.framework/Resources/bin/R CMD check --install=check:hopach.install-out.txt --library=/Library/Frameworks/R.framework/Resources/library --no-vignettes --timings hopach_2.69.0.tar.gz StartedAt: 2025-10-03 22:11:55 -0400 (Fri, 03 Oct 2025) EndedAt: 2025-10-03 22:13:12 -0400 (Fri, 03 Oct 2025) EllapsedTime: 76.2 seconds RetCode: 0 Status: OK CheckDir: hopach.Rcheck Warnings: 0