Package: hopach Version: 2.69.0 Command: rm -rf hopach.buildbin-libdir && mkdir hopach.buildbin-libdir && /Users/biocbuild/BBS/utils/build-universal.sh hopach_2.69.0.tar.gz /Library/Frameworks/R.framework/Resources/bin/R hopach.buildbin-libdir StartedAt: 2025-10-04 02:10:13 -0400 (Sat, 04 Oct 2025) EndedAt: 2025-10-04 02:10:30 -0400 (Sat, 04 Oct 2025) EllapsedTime: 17.5 seconds RetCode: 0 Status: OK PackageFile: hopach_2.69.0.tgz PackageFileSize: 1.076 MiB