Package: hoodscanR Version: 1.7.0 Command: /home/biocbuild/R/R/bin/R CMD check --install=check:hoodscanR.install-out.txt --library=/home/biocbuild/R/R/site-library --no-vignettes --timings hoodscanR_1.7.0.tar.gz StartedAt: 2025-10-17 10:07:28 -0000 (Fri, 17 Oct 2025) EndedAt: 2025-10-17 10:11:59 -0000 (Fri, 17 Oct 2025) EllapsedTime: 270.3 seconds RetCode: 0 Status: OK CheckDir: hoodscanR.Rcheck Warnings: 0