Package: hoodscanR Version: 1.7.0 Command: F:\biocbuild\bbs-3.22-bioc\R\bin\R.exe CMD check --no-multiarch --install=check:hoodscanR.install-out.txt --library=F:\biocbuild\bbs-3.22-bioc\R\library --no-vignettes --timings hoodscanR_1.7.0.tar.gz StartedAt: 2025-08-15 04:11:31 -0400 (Fri, 15 Aug 2025) EndedAt: 2025-08-15 04:16:09 -0400 (Fri, 15 Aug 2025) EllapsedTime: 277.5 seconds RetCode: 0 Status: OK CheckDir: hoodscanR.Rcheck Warnings: 0