Package: hoodscanR Version: 1.7.0 Command: chmod a+r hoodscanR -R && F:\biocbuild\bbs-3.22-bioc\R\bin\R.exe CMD build --keep-empty-dirs --no-resave-data hoodscanR StartedAt: 2025-08-14 20:49:44 -0400 (Thu, 14 Aug 2025) EndedAt: 2025-08-14 20:50:51 -0400 (Thu, 14 Aug 2025) EllapsedTime: 67.0 seconds RetCode: 0 Status: OK PackageFile: hoodscanR_1.7.0.tar.gz PackageFileSize: 1.17 MiB