Package: hoodscanR Version: 1.7.0 Command: /Library/Frameworks/R.framework/Resources/bin/R CMD INSTALL hoodscanR StartedAt: 2025-10-10 15:27:00 -0400 (Fri, 10 Oct 2025) EndedAt: 2025-10-10 15:27:42 -0400 (Fri, 10 Oct 2025) EllapsedTime: 41.3 seconds RetCode: 0 Status: OK