Package: hoodscanR Version: 1.7.0 Command: /Library/Frameworks/R.framework/Resources/bin/R CMD build --keep-empty-dirs --no-resave-data hoodscanR StartedAt: 2025-10-10 17:33:57 -0400 (Fri, 10 Oct 2025) EndedAt: 2025-10-10 17:35:27 -0400 (Fri, 10 Oct 2025) EllapsedTime: 90.3 seconds RetCode: 0 Status: OK PackageFile: hoodscanR_1.7.0.tar.gz PackageFileSize: 3.057 MiB