Package: hoodscanR Version: 1.7.0 Command: rm -rf hoodscanR.buildbin-libdir && mkdir hoodscanR.buildbin-libdir && /Users/biocbuild/BBS/utils/build-universal.sh hoodscanR_1.7.0.tar.gz /Library/Frameworks/R.framework/Resources/bin/R hoodscanR.buildbin-libdir StartedAt: 2025-10-13 22:45:39 -0400 (Mon, 13 Oct 2025) EndedAt: 2025-10-13 22:45:52 -0400 (Mon, 13 Oct 2025) EllapsedTime: 13.4 seconds RetCode: 0 Status: OK PackageFile: hoodscanR_1.7.0.tgz PackageFileSize: 3.15 MiB