Package: hmdbQuery Version: 1.30.0 Command: /home/biocbuild/R/R/bin/R CMD build --keep-empty-dirs --no-resave-data hmdbQuery StartedAt: 2025-11-14 02:32:51 -0000 (Fri, 14 Nov 2025) EndedAt: 2025-11-14 02:33:24 -0000 (Fri, 14 Nov 2025) EllapsedTime: 33.0 seconds RetCode: 0 Status: OK PackageFile: hmdbQuery_1.30.0.tar.gz PackageFileSize: 776.3 KiB