Package: hipathia Version: 3.9.0 Command: /home/biocbuild/R/R/bin/R CMD INSTALL hipathia StartedAt: 2025-10-16 22:09:12 -0000 (Thu, 16 Oct 2025) EndedAt: 2025-10-16 22:10:01 -0000 (Thu, 16 Oct 2025) EllapsedTime: 48.4 seconds RetCode: 0 Status: OK