Package: hipathia Version: 3.9.0 Command: /home/biocbuild/R/R/bin/R CMD build --keep-empty-dirs --no-resave-data hipathia StartedAt: 2025-10-21 00:30:05 -0000 (Tue, 21 Oct 2025) EndedAt: 2025-10-21 00:32:49 -0000 (Tue, 21 Oct 2025) EllapsedTime: 164.1 seconds RetCode: 1 Status: ERROR PackageFile: None PackageFileSize: NA