Package: hipathia Version: 3.9.0 Command: F:\biocbuild\bbs-3.22-bioc\R\bin\R.exe CMD INSTALL hipathia StartedAt: 2025-08-14 16:32:24 -0400 (Thu, 14 Aug 2025) EndedAt: 2025-08-14 16:35:08 -0400 (Thu, 14 Aug 2025) EllapsedTime: 163.8 seconds RetCode: 0 Status: OK