Package: hipathia Version: 3.9.0 Command: /Library/Frameworks/R.framework/Resources/bin/R CMD build --keep-empty-dirs --no-resave-data hipathia StartedAt: 2025-10-21 17:39:57 -0400 (Tue, 21 Oct 2025) EndedAt: 2025-10-21 17:43:10 -0400 (Tue, 21 Oct 2025) EllapsedTime: 192.5 seconds RetCode: 1 Status: ERROR PackageFile: None PackageFileSize: NA