Package: hipathia Version: 3.9.0 Command: rm -rf hipathia.buildbin-libdir && mkdir hipathia.buildbin-libdir && /Users/biocbuild/BBS/utils/build-universal.sh hipathia_3.9.0.tar.gz /Library/Frameworks/R.framework/Resources/bin/R hipathia.buildbin-libdir StartedAt: 2025-07-28 01:09:52 -0400 (Mon, 28 Jul 2025) EndedAt: 2025-07-28 01:10:48 -0400 (Mon, 28 Jul 2025) EllapsedTime: 55.8 seconds RetCode: 0 Status: OK PackageFile: hipathia_3.9.0.tgz PackageFileSize: 7.65 MiB