Package: hipathia Version: 3.9.0 Command: /Library/Frameworks/R.framework/Resources/bin/R CMD INSTALL hipathia StartedAt: 2025-10-23 15:20:15 -0400 (Thu, 23 Oct 2025) EndedAt: 2025-10-23 15:20:30 -0400 (Thu, 23 Oct 2025) EllapsedTime: 15.2 seconds RetCode: 0 Status: OK