Package: hierinf Version: 1.27.0 Command: /Library/Frameworks/R.framework/Resources/bin/R CMD check --install=check:hierinf.install-out.txt --library=/Library/Frameworks/R.framework/Resources/library --no-vignettes --timings hierinf_1.27.0.tar.gz StartedAt: 2025-10-01 20:02:18 -0400 (Wed, 01 Oct 2025) EndedAt: 2025-10-01 20:03:34 -0400 (Wed, 01 Oct 2025) EllapsedTime: 75.9 seconds RetCode: 0 Status: OK CheckDir: hierinf.Rcheck Warnings: 0