Package: hierinf Version: 1.27.0 Command: /Library/Frameworks/R.framework/Resources/bin/R CMD build --keep-empty-dirs --no-resave-data hierinf StartedAt: 2025-09-30 16:42:27 -0400 (Tue, 30 Sep 2025) EndedAt: 2025-09-30 16:43:08 -0400 (Tue, 30 Sep 2025) EllapsedTime: 41.4 seconds RetCode: 0 Status: OK PackageFile: hierinf_1.27.0.tar.gz PackageFileSize: 431.9 KiB