Package: hierGWAS Version: 1.39.0 Command: chmod a+r hierGWAS -R && F:\biocbuild\bbs-3.22-bioc\R\bin\R.exe CMD build --keep-empty-dirs --no-resave-data hierGWAS StartedAt: 2025-08-14 20:47:42 -0400 (Thu, 14 Aug 2025) EndedAt: 2025-08-14 20:49:25 -0400 (Thu, 14 Aug 2025) EllapsedTime: 103.2 seconds RetCode: 0 Status: OK PackageFile: hierGWAS_1.39.0.tar.gz PackageFileSize: 431.3 KiB